BEGIN:VCALENDAR
VERSION:2.0
PRODID:-//Children of the Dump - ECPv6.15.20//NONSGML v1.0//EN
CALSCALE:GREGORIAN
METHOD:PUBLISH
X-WR-CALNAME:Children of the Dump
X-ORIGINAL-URL:https://childrenofthedump.org.uk
X-WR-CALDESC:Events for Children of the Dump
REFRESH-INTERVAL;VALUE=DURATION:PT1H
X-Robots-Tag:noindex
X-PUBLISHED-TTL:PT1H
BEGIN:VTIMEZONE
TZID:Europe/London
BEGIN:DAYLIGHT
TZOFFSETFROM:+0000
TZOFFSETTO:+0100
TZNAME:BST
DTSTART:20240331T010000
END:DAYLIGHT
BEGIN:STANDARD
TZOFFSETFROM:+0100
TZOFFSETTO:+0000
TZNAME:GMT
DTSTART:20241027T010000
END:STANDARD
BEGIN:DAYLIGHT
TZOFFSETFROM:+0000
TZOFFSETTO:+0100
TZNAME:BST
DTSTART:20250330T010000
END:DAYLIGHT
BEGIN:STANDARD
TZOFFSETFROM:+0100
TZOFFSETTO:+0000
TZNAME:GMT
DTSTART:20251026T010000
END:STANDARD
BEGIN:DAYLIGHT
TZOFFSETFROM:+0000
TZOFFSETTO:+0100
TZNAME:BST
DTSTART:20260329T010000
END:DAYLIGHT
BEGIN:STANDARD
TZOFFSETFROM:+0100
TZOFFSETTO:+0000
TZNAME:GMT
DTSTART:20261025T010000
END:STANDARD
BEGIN:DAYLIGHT
TZOFFSETFROM:+0000
TZOFFSETTO:+0100
TZNAME:BST
DTSTART:20270328T010000
END:DAYLIGHT
BEGIN:STANDARD
TZOFFSETFROM:+0100
TZOFFSETTO:+0000
TZNAME:GMT
DTSTART:20271031T010000
END:STANDARD
END:VTIMEZONE
BEGIN:VEVENT
DTSTART;VALUE=DATE:20250501
DTEND;VALUE=DATE:20260502
DTSTAMP:20260419T160602
CREATED:20250227T152924Z
LAST-MODIFIED:20250227T153127Z
UID:3620-1746057600-1777679999@childrenofthedump.org.uk
SUMMARY:Join Our 50/50 Lottery & Celebrate 50 Years!
DESCRIPTION:We’re thrilled to announce an exciting way to celebrate our charity’s 50th Anniversary – our 50/50 Charity Lottery! \nWin Big & Make a Difference!  \nBy joining\, you’re supporting Cashew Tree School\, Mango Tree House\, and the Grapevine Scholarship Program\, providing vital education and care for  vulnerable children in Manila – and you also have the chance to win a  fantastic cash prize! \nHow It Works: \nEntry costs £5 per ticket per month (players may purchase multiple  tickets)\n50% of the total pot goes to one lucky winner.\n50% funds children’s education and welfare. \nHow to Enter: \nEmail 50-50lottery@childrenofthedump.org.uk to request to play.\nWe’ll send you further details\, Terms and Conditions and instructions on setting up a monthly payment via online banking. \nThe more you play\, the bigger the jackpot and the greater the impact you make. \n \nThe Children of the Dump small charity lottery is licensed by\nSurrey Heath Borough Council’
URL:https://childrenofthedump.org.uk/event/join-our-50-50-lottery-celebrate-50-years/
LOCATION:On Line
END:VEVENT
END:VCALENDAR